BEGIN:VCALENDAR
VERSION:2.0
PRODID:-//Inner Circle - ECPv6.15.11//NONSGML v1.0//EN
CALSCALE:GREGORIAN
METHOD:PUBLISH
X-ORIGINAL-URL:https://innercircle.biz
X-WR-CALDESC:Events for Inner Circle
REFRESH-INTERVAL;VALUE=DURATION:PT1H
X-Robots-Tag:noindex
X-PUBLISHED-TTL:PT1H
BEGIN:VTIMEZONE
TZID:America/Los_Angeles
BEGIN:DAYLIGHT
TZOFFSETFROM:-0800
TZOFFSETTO:-0700
TZNAME:PDT
DTSTART:20230312T100000
END:DAYLIGHT
BEGIN:STANDARD
TZOFFSETFROM:-0700
TZOFFSETTO:-0800
TZNAME:PST
DTSTART:20231105T090000
END:STANDARD
BEGIN:DAYLIGHT
TZOFFSETFROM:-0800
TZOFFSETTO:-0700
TZNAME:PDT
DTSTART:20240310T100000
END:DAYLIGHT
BEGIN:STANDARD
TZOFFSETFROM:-0700
TZOFFSETTO:-0800
TZNAME:PST
DTSTART:20241103T090000
END:STANDARD
BEGIN:DAYLIGHT
TZOFFSETFROM:-0800
TZOFFSETTO:-0700
TZNAME:PDT
DTSTART:20250309T100000
END:DAYLIGHT
BEGIN:STANDARD
TZOFFSETFROM:-0700
TZOFFSETTO:-0800
TZNAME:PST
DTSTART:20251102T090000
END:STANDARD
END:VTIMEZONE
BEGIN:VEVENT
DTSTART;TZID=America/Los_Angeles:20240522T170000
DTEND;TZID=America/Los_Angeles:20240522T210000
DTSTAMP:20260423T081452
CREATED:20240520T182513Z
LAST-MODIFIED:20240520T182513Z
UID:11686-1716397200-1716411600@innercircle.biz
SUMMARY:The District House - May 22nd (Conscious Connections Roundtable)
DESCRIPTION:The District House is a members only benefit of District216. Come and go as you please\, meet amazing members + founders\, and interact with speakers on a variety of topics. \nTopic: “Beyond the Trip: Embracing Psychedelic Integration” \nWhen: Wednesday\, March 20th\, 2024 from 5pm to 9pm (Conversation at 6:30pm) \nWhere: LoDo Studios\, 216 E. Gutierrez Street\, Santa Barbara\, CA 93101 \n(Please only park across the street on the Office Max side of the lot.) \nMembers are Free to attend The District House evenings\, and are prioritized when we reach capacity. \nGuests Welcome to purchase $15 tickets (discounted from $50) to The District House evenings. \nFormat: Networking & Roundtable Conversation.  We will be discussing as a group in an open format in the room. \nNote: We will not be filming this week’s conversation. Refreshments provided. \n  \nRegister Now
URL:https://innercircle.biz/event/the-district-house-may-22nd-conscious-connections-roundtable/
LOCATION:1760 Little Gopher Canyon Rd Vista\, CA 92084 US\, 1760 Little Gopher Canyon Rd\, Vista\, CA\, United States
ATTACH;FMTTYPE=image/png:https://innercircle.biz/wp-content/uploads/2024/05/Screenshot-2024-05-20-at-2.19.44-PM.png
END:VEVENT
END:VCALENDAR