BEGIN:VCALENDAR
VERSION:2.0
PRODID:-//Inner Circle - ECPv6.15.11//NONSGML v1.0//EN
CALSCALE:GREGORIAN
METHOD:PUBLISH
X-WR-CALNAME:Inner Circle
X-ORIGINAL-URL:https://innercircle.biz
X-WR-CALDESC:Events for Inner Circle
REFRESH-INTERVAL;VALUE=DURATION:PT1H
X-Robots-Tag:noindex
X-PUBLISHED-TTL:PT1H
BEGIN:VTIMEZONE
TZID:America/Los_Angeles
BEGIN:DAYLIGHT
TZOFFSETFROM:-0800
TZOFFSETTO:-0700
TZNAME:PDT
DTSTART:20210314T100000
END:DAYLIGHT
BEGIN:STANDARD
TZOFFSETFROM:-0700
TZOFFSETTO:-0800
TZNAME:PST
DTSTART:20211107T090000
END:STANDARD
BEGIN:DAYLIGHT
TZOFFSETFROM:-0800
TZOFFSETTO:-0700
TZNAME:PDT
DTSTART:20220313T100000
END:DAYLIGHT
BEGIN:STANDARD
TZOFFSETFROM:-0700
TZOFFSETTO:-0800
TZNAME:PST
DTSTART:20221106T090000
END:STANDARD
BEGIN:DAYLIGHT
TZOFFSETFROM:-0800
TZOFFSETTO:-0700
TZNAME:PDT
DTSTART:20230312T100000
END:DAYLIGHT
BEGIN:STANDARD
TZOFFSETFROM:-0700
TZOFFSETTO:-0800
TZNAME:PST
DTSTART:20231105T090000
END:STANDARD
BEGIN:DAYLIGHT
TZOFFSETFROM:-0800
TZOFFSETTO:-0700
TZNAME:PDT
DTSTART:20240310T100000
END:DAYLIGHT
BEGIN:STANDARD
TZOFFSETFROM:-0700
TZOFFSETTO:-0800
TZNAME:PST
DTSTART:20241103T090000
END:STANDARD
END:VTIMEZONE
BEGIN:VEVENT
DTSTART;TZID=America/Los_Angeles:20221028T110000
DTEND;TZID=America/Los_Angeles:20221028T120000
DTSTAMP:20260420T142649
CREATED:20220927T233144Z
LAST-MODIFIED:20221005T204428Z
UID:10204-1666954800-1666958400@innercircle.biz
SUMMARY:Round Table Mastermind
DESCRIPTION:Join our weekly round table to get insight\, feedback and inspiration from other members and special guests. Reserve your seat as we have limited seating available for each Wednesday session!
URL:https://innercircle.biz/event/round-table-mastermind-45/
LOCATION:CA
ATTACH;FMTTYPE=image/jpeg:https://innercircle.biz/wp-content/uploads/2022/04/098A0147-2.jpg
END:VEVENT
BEGIN:VEVENT
DTSTART;TZID=America/Los_Angeles:20221029T130000
DTEND;TZID=America/Los_Angeles:20221029T162000
DTSTAMP:20260420T142649
CREATED:20221005T205236Z
LAST-MODIFIED:20221005T205236Z
UID:10231-1667048400-1667060400@innercircle.biz
SUMMARY:Inner Circle BBQ
DESCRIPTION:We’re coming to Texas! ?? \nAfter requests for events and community building- we’re finally here. \nJoin us for casual networking and mastermind sessions at our home in Briarcliff for the afternoon. Meet new industry members\, and enjoy some BBQ (vegan options available) at our home. \nThis is an INVITE ONLY gathering of less than 20 people. \nReserve your spot.
URL:https://innercircle.biz/event/inner-circle-bbq/
LOCATION:CA
ATTACH;FMTTYPE=image/png:https://innercircle.biz/wp-content/uploads/2022/10/Flag_of_Texas.svg.png
END:VEVENT
BEGIN:VEVENT
DTSTART;TZID=America/Los_Angeles:20221101T160000
DTEND;TZID=America/Los_Angeles:20221101T190000
DTSTAMP:20260420T142649
CREATED:20221001T054820Z
LAST-MODIFIED:20221001T054820Z
UID:10223-1667318400-1667329200@innercircle.biz
SUMMARY:L.A. Taco Tuesday
DESCRIPTION:JOIN LOS ANGELES NORML & INNER CIRCLE FOR THEIR WEEKLY TACO TUESDAY SESH IN VENICE BEACH. THIS IS AN OUTDOOR DINING EVENT WITH A FULL FOOD/BAR MENU UNDER A BIG TENT WITH BEACH SAND\, FIRE PITS\, HEAT LAMPS\, COUCHES\, ENTERTAINMENT\, AND COMPLIMENTARY CHIPS & SALSA.
URL:https://innercircle.biz/event/l-a-taco-tuesday-26/
LOCATION:CA
ATTACH;FMTTYPE=image/jpeg:https://innercircle.biz/wp-content/uploads/2022/05/IMG_6813.jpg
END:VEVENT
BEGIN:VEVENT
DTSTART;VALUE=DATE:20221105
DTEND;VALUE=DATE:20221106
DTSTAMP:20260420T142649
CREATED:20220927T232455Z
LAST-MODIFIED:20221005T203918Z
UID:10200-1667606400-1667692799@innercircle.biz
SUMMARY:Masterful Communicator: Where Visionaries Unite
DESCRIPTION:Those of you at our September Mastermind Session recall Jon Block -one of our newest members and a master communicator. He is hosting a 3 day live event in San Diego and I will be hosting a panel on plant medicine and how it is impacting leadership\, now and into the future. More details HERE
URL:https://innercircle.biz/event/masterful-communicator-where-visionaries-unite/
LOCATION:CA
ATTACH;FMTTYPE=image/jpeg:https://innercircle.biz/wp-content/uploads/2022/09/68130dc0-a039-aec5-a76c-1f21f10aea1a.jpg
END:VEVENT
BEGIN:VEVENT
DTSTART;TZID=America/Los_Angeles:20221108T160000
DTEND;TZID=America/Los_Angeles:20221108T190000
DTSTAMP:20260420T142649
CREATED:20221012T210736Z
LAST-MODIFIED:20221012T210736Z
UID:10262-1667923200-1667934000@innercircle.biz
SUMMARY:L.A. Taco Tuesday
DESCRIPTION:JOIN LOS ANGELES NORML & INNER CIRCLE FOR THEIR WEEKLY TACO TUESDAY SESH IN VENICE BEACH. THIS IS AN OUTDOOR DINING EVENT WITH A FULL FOOD/BAR MENU UNDER A BIG TENT WITH BEACH SAND\, FIRE PITS\, HEAT LAMPS\, COUCHES\, ENTERTAINMENT\, AND COMPLIMENTARY CHIPS & SALSA.
URL:https://innercircle.biz/event/l-a-taco-tuesday-27/
LOCATION:CA
ATTACH;FMTTYPE=image/jpeg:https://innercircle.biz/wp-content/uploads/2022/05/IMG_6813.jpg
END:VEVENT
BEGIN:VEVENT
DTSTART;TZID=America/Los_Angeles:20221111T110000
DTEND;TZID=America/Los_Angeles:20221111T120000
DTSTAMP:20260420T142649
CREATED:20221012T184118Z
LAST-MODIFIED:20221012T184118Z
UID:10258-1668164400-1668168000@innercircle.biz
SUMMARY:Round Table Mastermind
DESCRIPTION:Join our weekly round table to get insight\, feedback and inspiration from other members and special guests. Reserve your seatas we have limited seating available for each Friday session!
URL:https://innercircle.biz/event/round-table-mastermind-47/
LOCATION:CA
ATTACH;FMTTYPE=image/jpeg:https://innercircle.biz/wp-content/uploads/2022/04/098A0147-2.jpg
END:VEVENT
BEGIN:VEVENT
DTSTART;VALUE=DATE:20221116
DTEND;VALUE=DATE:20221118
DTSTAMP:20260420T142649
CREATED:20220927T234247Z
LAST-MODIFIED:20220927T234425Z
UID:10208-1668556800-1668729599@innercircle.biz
SUMMARY:MJ Biz Conference
DESCRIPTION:This will be our first year attending. If you or your team will be there we’d love to connect! \nMORE INFO HERE
URL:https://innercircle.biz/event/mj-biz-conference/
LOCATION:CA
ATTACH;FMTTYPE=image/png:https://innercircle.biz/wp-content/uploads/2022/09/MJBizCon11.png
END:VEVENT
BEGIN:VEVENT
DTSTART;TZID=America/Los_Angeles:20221129T160000
DTEND;TZID=America/Los_Angeles:20221129T190000
DTSTAMP:20260420T142649
CREATED:20221012T210844Z
LAST-MODIFIED:20221012T210844Z
UID:10263-1669737600-1669748400@innercircle.biz
SUMMARY:L.A. Taco Tuesday
DESCRIPTION:JOIN LOS ANGELES NORML & INNER CIRCLE FOR THEIR WEEKLY TACO TUESDAY SESH IN VENICE BEACH. THIS IS AN OUTDOOR DINING EVENT WITH A FULL FOOD/BAR MENU UNDER A BIG TENT WITH BEACH SAND\, FIRE PITS\, HEAT LAMPS\, COUCHES\, ENTERTAINMENT\, AND COMPLIMENTARY CHIPS & SALSA.
URL:https://innercircle.biz/event/l-a-taco-tuesday-28/
LOCATION:CA
ATTACH;FMTTYPE=image/jpeg:https://innercircle.biz/wp-content/uploads/2022/05/IMG_6813.jpg
END:VEVENT
BEGIN:VEVENT
DTSTART;TZID=America/Los_Angeles:20221202T110000
DTEND;TZID=America/Los_Angeles:20221202T120000
DTSTAMP:20260420T142649
CREATED:20220927T232844Z
LAST-MODIFIED:20221111T215807Z
UID:10203-1669978800-1669982400@innercircle.biz
SUMMARY:Marketing & Copywriting Workshop w/ Kyle Dammann
DESCRIPTION:Connect with Inner Circle co-founder and digital marketer Kyle Dammann to discuss/review your marketing plans and strategies. \nHe is happy to review your plan and suggest proven and effective budget-appropriate marketing solutions for where your business is TODAY. \nYour marketing should not put you into debt or feel like gambling. \nLet’s slow down and create a good plan you can live with. \nWinning with digital marketing today is about creating incremental\, measurable and exciting results. \nSEATING IS LIMITED TO PROVIDE MAXIMUM WORKSHOP TIME FOR ATTENDEES: \nClick Here To Reserve Your Seat Today!  \n**If you schedule\, please arrive on time\, ready to work on your business. If you can’t attend\, please cancel with a minimum of 24 hours notice so other members can fill your spot. Repeated “registrations and non-attendance” may result in suspended or canceled membership.
URL:https://innercircle.biz/event/round-table-mastermind-w-kyle-dammann-2/
LOCATION:CA
ATTACH;FMTTYPE=image/jpeg:https://innercircle.biz/wp-content/uploads/2022/09/Kyle_Workshops.jpg
END:VEVENT
BEGIN:VEVENT
DTSTART;TZID=America/Los_Angeles:20221206T160000
DTEND;TZID=America/Los_Angeles:20221206T190000
DTSTAMP:20260420T142649
CREATED:20221012T210939Z
LAST-MODIFIED:20221012T210939Z
UID:10264-1670342400-1670353200@innercircle.biz
SUMMARY:L.A. Taco Tuesday
DESCRIPTION:JOIN LOS ANGELES NORML & INNER CIRCLE FOR THEIR WEEKLY TACO TUESDAY SESH IN VENICE BEACH. THIS IS AN OUTDOOR DINING EVENT WITH A FULL FOOD/BAR MENU UNDER A BIG TENT WITH BEACH SAND\, FIRE PITS\, HEAT LAMPS\, COUCHES\, ENTERTAINMENT\, AND COMPLIMENTARY CHIPS & SALSA.
URL:https://innercircle.biz/event/l-a-taco-tuesday-29/
LOCATION:CA
ATTACH;FMTTYPE=image/jpeg:https://innercircle.biz/wp-content/uploads/2022/05/IMG_6813.jpg
END:VEVENT
BEGIN:VEVENT
DTSTART;TZID=America/Los_Angeles:20221209T080000
DTEND;TZID=America/Los_Angeles:20221209T170000
DTSTAMP:20260420T142649
CREATED:20221012T190331Z
LAST-MODIFIED:20221012T190331Z
UID:10260-1670572800-1670605200@innercircle.biz
SUMMARY:Round Table Mastermind
DESCRIPTION:Join our weekly round table to get insight\, feedback and inspiration from other members and special guests. Reserve your seatas we have limited seating available for each Friday session!
URL:https://innercircle.biz/event/round-table-mastermind-49/
LOCATION:CA
ATTACH;FMTTYPE=image/jpeg:https://innercircle.biz/wp-content/uploads/2022/04/098A0147-2.jpg
END:VEVENT
BEGIN:VEVENT
DTSTART;TZID=America/Los_Angeles:20221213T160000
DTEND;TZID=America/Los_Angeles:20221213T190000
DTSTAMP:20260420T142649
CREATED:20221207T234035Z
LAST-MODIFIED:20221207T234035Z
UID:10459-1670947200-1670958000@innercircle.biz
SUMMARY:L.A. Taco Tuesday
DESCRIPTION:JOIN LOS ANGELES NORML & INNER CIRCLE FOR THEIR WEEKLY TACO TUESDAY SESH IN VENICE BEACH. THIS IS AN OUTDOOR DINING EVENT WITH A FULL FOOD/BAR MENU UNDER A BIG TENT WITH BEACH SAND\, FIRE PITS\, HEAT LAMPS\, COUCHES\, ENTERTAINMENT\, AND COMPLIMENTARY CHIPS & SALSA.
URL:https://innercircle.biz/event/l-a-taco-tuesday-30/
LOCATION:CA
ATTACH;FMTTYPE=image/jpeg:https://innercircle.biz/wp-content/uploads/2022/05/IMG_6813.jpg
END:VEVENT
BEGIN:VEVENT
DTSTART;TZID=America/Los_Angeles:20221216T110000
DTEND;TZID=America/Los_Angeles:20221216T120000
DTSTAMP:20260420T142649
CREATED:20221207T234235Z
LAST-MODIFIED:20221207T234235Z
UID:10460-1671188400-1671192000@innercircle.biz
SUMMARY:Marketing and Copywriting Workshop
DESCRIPTION:Connect with Inner Circle co-founder and digital marketer Kyle Dammann to discuss/review your marketing plans and strategies. \nHe is happy to review your plan and suggest proven and effective budget-appropriate marketing solutions for where your business is TODAY. \nYour marketing should not put you into debt or feel like gambling. \nLet’s slow down and create a good plan you can live with. \nWinning with digital marketing today is about creating incremental\, measurable and exciting results. \nSEATING IS LIMITED TO PROVIDE MAXIMUM WORKSHOP TIME FOR ATTENDEES: \nClick Here To Reserve Your Seat Today!  \n**If you schedule\, please arrive on time\, ready to work on your business. If you can’t attend\, please cancel with a minimum of 24 hours notice so other members can fill your spot. Repeated “registrations and non-attendance” may result in suspended or canceled membership.
URL:https://innercircle.biz/event/marketing-and-copywriting-workshop/
LOCATION:CA
ATTACH;FMTTYPE=image/jpeg:https://innercircle.biz/wp-content/uploads/2022/09/Kyle_Workshops.jpg
END:VEVENT
BEGIN:VEVENT
DTSTART;TZID=America/Los_Angeles:20221230T110000
DTEND;TZID=America/Los_Angeles:20221230T120000
DTSTAMP:20260420T142649
CREATED:20221213T205113Z
LAST-MODIFIED:20221213T205533Z
UID:10464-1672398000-1672401600@innercircle.biz
SUMMARY:Marketing and Copywriting Workshop
DESCRIPTION:Connect with Inner Circle co-founder and digital marketer Kyle Dammann to discuss/review your marketing plans and strategies. \nHe is happy to review your plan and suggest proven and effective budget-appropriate marketing solutions for where your business is TODAY. \nYour marketing should not put you into debt or feel like gambling. \nLet’s slow down and create a good plan you can live with. \nWinning with digital marketing today is about creating incremental\, measurable and exciting results. \nSEATING IS LIMITED TO PROVIDE MAXIMUM WORKSHOP TIME FOR ATTENDEES: \nClick Here To Reserve Your Seat Today!  \n**If you schedule\, please arrive on time\, ready to work on your business. If you can’t attend\, please cancel with a minimum of 24 hours notice so other members can fill your spot. Repeated “registrations and non-attendance” may result in suspended or canceled membership.
URL:https://innercircle.biz/event/marketing-and-copywriting-workshop-copy/
LOCATION:CA
ATTACH;FMTTYPE=image/jpeg:https://innercircle.biz/wp-content/uploads/2022/09/Kyle_Workshops.jpg
END:VEVENT
BEGIN:VEVENT
DTSTART;TZID=America/Los_Angeles:20230106T110000
DTEND;TZID=America/Los_Angeles:20230106T120000
DTSTAMP:20260420T142649
CREATED:20230103T215208Z
LAST-MODIFIED:20230103T215208Z
UID:10484-1673002800-1673006400@innercircle.biz
SUMMARY:Round Table Mastermind
DESCRIPTION:Join our weekly round table to get insight\, feedback and inspiration from other members and special guests. Reserve your seatas we have limited seating available for each Friday session!
URL:https://innercircle.biz/event/round-table-mastermind-46/
LOCATION:CA
ATTACH;FMTTYPE=image/jpeg:https://innercircle.biz/wp-content/uploads/2022/04/098A0147-2.jpg
END:VEVENT
BEGIN:VEVENT
DTSTART;TZID=America/Los_Angeles:20230110T160000
DTEND;TZID=America/Los_Angeles:20230110T190000
DTSTAMP:20260420T142649
CREATED:20230103T214724Z
LAST-MODIFIED:20230103T214724Z
UID:10483-1673366400-1673377200@innercircle.biz
SUMMARY:L.A. Taco Tuesday
DESCRIPTION:JOIN LOS ANGELES NORML & INNER CIRCLE FOR THEIR WEEKLY TACO TUESDAY SESH IN VENICE BEACH. THIS IS AN OUTDOOR DINING EVENT WITH A FULL FOOD/BAR MENU UNDER A BIG TENT WITH BEACH SAND\, FIRE PITS\, HEAT LAMPS\, COUCHES\, ENTERTAINMENT\, AND COMPLIMENTARY CHIPS & SALSA.
URL:https://innercircle.biz/event/l-a-taco-tuesday-31/
LOCATION:CA
ATTACH;FMTTYPE=image/jpeg:https://innercircle.biz/wp-content/uploads/2022/05/IMG_6813.jpg
END:VEVENT
BEGIN:VEVENT
DTSTART;TZID=America/Los_Angeles:20230113T110000
DTEND;TZID=America/Los_Angeles:20230113T120000
DTSTAMP:20260420T142649
CREATED:20221213T205943Z
LAST-MODIFIED:20221213T205943Z
UID:10465-1673607600-1673611200@innercircle.biz
SUMMARY:Marketing and Copywriting Workshop
DESCRIPTION:Connect with Inner Circle co-founder and digital marketer Kyle Dammann to discuss/review your marketing plans and strategies. \nHe is happy to review your plan and suggest proven and effective budget-appropriate marketing solutions for where your business is TODAY. \nYour marketing should not put you into debt or feel like gambling. \nLet’s slow down and create a good plan you can live with. \nWinning with digital marketing today is about creating incremental\, measurable and exciting results. \nSEATING IS LIMITED TO PROVIDE MAXIMUM WORKSHOP TIME FOR ATTENDEES: \nClick Here To Reserve Your Seat Today!  \n**If you schedule\, please arrive on time\, ready to work on your business. If you can’t attend\, please cancel with a minimum of 24 hours notice so other members can fill your spot. Repeated “registrations and non-attendance” may result in suspended or canceled membership.
URL:https://innercircle.biz/event/marketing-and-copywriting-workshop-2/
LOCATION:CA
ATTACH;FMTTYPE=image/jpeg:https://innercircle.biz/wp-content/uploads/2022/09/Kyle_Workshops.jpg
END:VEVENT
BEGIN:VEVENT
DTSTART;TZID=America/Los_Angeles:20230117T160000
DTEND;TZID=America/Los_Angeles:20230117T190000
DTSTAMP:20260420T142649
CREATED:20230103T215733Z
LAST-MODIFIED:20230103T215733Z
UID:10485-1673971200-1673982000@innercircle.biz
SUMMARY:L.A. Taco Tuesday
DESCRIPTION:JOIN LOS ANGELES NORML & INNER CIRCLE FOR THEIR WEEKLY TACO TUESDAY SESH IN VENICE BEACH. THIS IS AN OUTDOOR DINING EVENT WITH A FULL FOOD/BAR MENU UNDER A BIG TENT WITH BEACH SAND\, FIRE PITS\, HEAT LAMPS\, COUCHES\, ENTERTAINMENT\, AND COMPLIMENTARY CHIPS & SALSA.
URL:https://innercircle.biz/event/l-a-taco-tuesday-32/
LOCATION:CA
ATTACH;FMTTYPE=image/jpeg:https://innercircle.biz/wp-content/uploads/2022/05/IMG_6813.jpg
END:VEVENT
BEGIN:VEVENT
DTSTART;TZID=America/Los_Angeles:20230120T110000
DTEND;TZID=America/Los_Angeles:20230120T120000
DTSTAMP:20260420T142649
CREATED:20230103T220039Z
LAST-MODIFIED:20230103T220039Z
UID:10487-1674212400-1674216000@innercircle.biz
SUMMARY:Round Table Mastermind
DESCRIPTION:Join our weekly round table to get insight\, feedback and inspiration from other members and special guests. Reserve your seatas we have limited seating available for each Friday session!
URL:https://innercircle.biz/event/round-table-mastermind-48/
LOCATION:CA
ATTACH;FMTTYPE=image/jpeg:https://innercircle.biz/wp-content/uploads/2022/04/098A0147-2.jpg
END:VEVENT
BEGIN:VEVENT
DTSTART;TZID=America/Los_Angeles:20230127T110000
DTEND;TZID=America/Los_Angeles:20230127T120000
DTSTAMP:20260420T142649
CREATED:20230103T215926Z
LAST-MODIFIED:20230103T215926Z
UID:10486-1674817200-1674820800@innercircle.biz
SUMMARY:Marketing and Copywriting Workshop
DESCRIPTION:Connect with Inner Circle co-founder and digital marketer Kyle Dammann to discuss/review your marketing plans and strategies. \nHe is happy to review your plan and suggest proven and effective budget-appropriate marketing solutions for where your business is TODAY. \nYour marketing should not put you into debt or feel like gambling. \nLet’s slow down and create a good plan you can live with. \nWinning with digital marketing today is about creating incremental\, measurable and exciting results. \nSEATING IS LIMITED TO PROVIDE MAXIMUM WORKSHOP TIME FOR ATTENDEES: \nClick Here To Reserve Your Seat Today!  \n**If you schedule\, please arrive on time\, ready to work on your business. If you can’t attend\, please cancel with a minimum of 24 hours notice so other members can fill your spot. Repeated “registrations and non-attendance” may result in suspended or canceled membership.
URL:https://innercircle.biz/event/marketing-and-copywriting-workshop-3/
LOCATION:CA
ATTACH;FMTTYPE=image/jpeg:https://innercircle.biz/wp-content/uploads/2022/09/Kyle_Workshops.jpg
END:VEVENT
BEGIN:VEVENT
DTSTART;TZID=America/Los_Angeles:20230131T160000
DTEND;TZID=America/Los_Angeles:20230131T190000
DTSTAMP:20260420T142649
CREATED:20230103T231905Z
LAST-MODIFIED:20230103T231905Z
UID:10489-1675180800-1675191600@innercircle.biz
SUMMARY:L.A. Taco Tuesday
DESCRIPTION:JOIN LOS ANGELES NORML & INNER CIRCLE FOR THEIR WEEKLY TACO TUESDAY SESH IN VENICE BEACH. THIS IS AN OUTDOOR DINING EVENT WITH A FULL FOOD/BAR MENU UNDER A BIG TENT WITH BEACH SAND\, FIRE PITS\, HEAT LAMPS\, COUCHES\, ENTERTAINMENT\, AND COMPLIMENTARY CHIPS & SALSA.
URL:https://innercircle.biz/event/l-a-taco-tuesday-33/
LOCATION:CA
ATTACH;FMTTYPE=image/jpeg:https://innercircle.biz/wp-content/uploads/2022/05/IMG_6813.jpg
END:VEVENT
BEGIN:VEVENT
DTSTART;TZID=America/Los_Angeles:20230203T110000
DTEND;TZID=America/Los_Angeles:20230203T120000
DTSTAMP:20260420T142649
CREATED:20230113T181509Z
LAST-MODIFIED:20230113T181509Z
UID:10505-1675422000-1675425600@innercircle.biz
SUMMARY:Round Table Mastermind
DESCRIPTION:Join our weekly round table to get insight\, feedback and inspiration from other members and special guests. Reserve your seatas we have limited seating available for each Friday session!
URL:https://innercircle.biz/event/round-table-mastermind-50/
LOCATION:CA
ATTACH;FMTTYPE=image/jpeg:https://innercircle.biz/wp-content/uploads/2022/04/098A0147-2.jpg
END:VEVENT
BEGIN:VEVENT
DTSTART;TZID=America/Los_Angeles:20230207T160000
DTEND;TZID=America/Los_Angeles:20230207T190000
DTSTAMP:20260420T142649
CREATED:20230113T181144Z
LAST-MODIFIED:20230113T181144Z
UID:10502-1675785600-1675796400@innercircle.biz
SUMMARY:L.A. Taco Tuesday
DESCRIPTION:JOIN LOS ANGELES NORML & INNER CIRCLE FOR THEIR WEEKLY TACO TUESDAY SESH IN VENICE BEACH. THIS IS AN OUTDOOR DINING EVENT WITH A FULL FOOD/BAR MENU UNDER A BIG TENT WITH BEACH SAND\, FIRE PITS\, HEAT LAMPS\, COUCHES\, ENTERTAINMENT\, AND COMPLIMENTARY CHIPS & SALSA.
URL:https://innercircle.biz/event/l-a-taco-tuesday-34/
LOCATION:CA
ATTACH;FMTTYPE=image/jpeg:https://innercircle.biz/wp-content/uploads/2022/05/IMG_6813.jpg
END:VEVENT
BEGIN:VEVENT
DTSTART;TZID=America/Los_Angeles:20230210T110000
DTEND;TZID=America/Los_Angeles:20230210T120000
DTSTAMP:20260420T142649
CREATED:20230113T181347Z
LAST-MODIFIED:20230113T181347Z
UID:10504-1676026800-1676030400@innercircle.biz
SUMMARY:Marketing and Copywriting Workshop
DESCRIPTION:Connect with Inner Circle co-founder and digital marketer Kyle Dammann to discuss/review your marketing plans and strategies. \nHe is happy to review your plan and suggest proven and effective budget-appropriate marketing solutions for where your business is TODAY. \nYour marketing should not put you into debt or feel like gambling. \nLet’s slow down and create a good plan you can live with. \nWinning with digital marketing today is about creating incremental\, measurable and exciting results. \nSEATING IS LIMITED TO PROVIDE MAXIMUM WORKSHOP TIME FOR ATTENDEES: \nClick Here To Reserve Your Seat Today!  \n**If you schedule\, please arrive on time\, ready to work on your business. If you can’t attend\, please cancel with a minimum of 24 hours notice so other members can fill your spot. Repeated “registrations and non-attendance” may result in suspended or canceled membership.
URL:https://innercircle.biz/event/marketing-and-copywriting-workshop-4/
LOCATION:CA
ATTACH;FMTTYPE=image/jpeg:https://innercircle.biz/wp-content/uploads/2022/09/Kyle_Workshops.jpg
END:VEVENT
BEGIN:VEVENT
DTSTART;TZID=America/Los_Angeles:20230214T160000
DTEND;TZID=America/Los_Angeles:20230214T190000
DTSTAMP:20260420T142649
CREATED:20230113T181242Z
LAST-MODIFIED:20230113T181242Z
UID:10503-1676390400-1676401200@innercircle.biz
SUMMARY:L.A. Taco Tuesday
DESCRIPTION:JOIN LOS ANGELES NORML & INNER CIRCLE FOR THEIR WEEKLY TACO TUESDAY SESH IN VENICE BEACH. THIS IS AN OUTDOOR DINING EVENT WITH A FULL FOOD/BAR MENU UNDER A BIG TENT WITH BEACH SAND\, FIRE PITS\, HEAT LAMPS\, COUCHES\, ENTERTAINMENT\, AND COMPLIMENTARY CHIPS & SALSA.
URL:https://innercircle.biz/event/l-a-taco-tuesday-35/
LOCATION:CA
ATTACH;FMTTYPE=image/jpeg:https://innercircle.biz/wp-content/uploads/2022/05/IMG_6813.jpg
END:VEVENT
BEGIN:VEVENT
DTSTART;TZID=America/Los_Angeles:20230215T183000
DTEND;TZID=America/Los_Angeles:20230215T220000
DTSTAMP:20260420T142649
CREATED:20230113T175823Z
LAST-MODIFIED:20230113T175823Z
UID:10501-1676485800-1676498400@innercircle.biz
SUMMARY:Plant Medicine Leaders Round-Table Mastermind
DESCRIPTION:Our 1st event of 2023 will be held at a NEW location in the Arts District in downtown L.A. \nCLICK HERE to save your seat!
URL:https://innercircle.biz/event/plant-medicine-leaders-round-table-mastermind/
LOCATION:CA
ATTACH;FMTTYPE=image/jpeg:https://innercircle.biz/wp-content/uploads/2022/10/Group-Meetup-Edited.jpg
END:VEVENT
BEGIN:VEVENT
DTSTART;TZID=America/Los_Angeles:20230228T160000
DTEND;TZID=America/Los_Angeles:20230228T190000
DTSTAMP:20260420T142649
CREATED:20230222T200408Z
LAST-MODIFIED:20230223T175929Z
UID:10632-1677600000-1677610800@innercircle.biz
SUMMARY:L.A. Taco Tuesday
DESCRIPTION:Join Ian Rassman- L.A. NORML Exec Director & Chosen Payments expert\, for a plant medicine industry leadership-focused networking and casual mastermind session. If you’re in the L.A. area this is a can’t miss event!
URL:https://innercircle.biz/event/l-a-taco-tuesday-36/
LOCATION:Baja Cantina\, 311 Washington Blvd.\, Marina Del Ray\, CA\, 90292\, United States
ATTACH;FMTTYPE=image/jpeg:https://innercircle.biz/wp-content/uploads/2022/05/IMG_6813.jpg
END:VEVENT
BEGIN:VEVENT
DTSTART;TZID=America/Los_Angeles:20230303T110000
DTEND;TZID=America/Los_Angeles:20230303T120000
DTSTAMP:20260420T142649
CREATED:20230224T192953Z
LAST-MODIFIED:20230224T192959Z
UID:10639-1677841200-1677844800@innercircle.biz
SUMMARY:PLAN: Virtual Leadership Mastermind With Matt Ritchey
DESCRIPTION:Join Inner Circle founder & CEO Matt Ritchey to share\, discuss and clarify your leadership and team-building strategy. Matt has led team-building initiatives for companies like Facebook\, Air B&B\, Chopra Institute\, and others! \nSeating is limited to ensure a productive and confidential member-only container.  \n			\n						Reserve your seat Today!
URL:https://innercircle.biz/event/plan-virtual-leadership-mastermind-with-matt-ritchey/
LOCATION:Virtual
ATTACH;FMTTYPE=image/jpeg:https://innercircle.biz/wp-content/uploads/2022/04/098A0147-2.jpg
END:VEVENT
BEGIN:VEVENT
DTSTART;TZID=America/Los_Angeles:20230307T160000
DTEND;TZID=America/Los_Angeles:20230307T190000
DTSTAMP:20260420T142649
CREATED:20230223T180139Z
LAST-MODIFIED:20230223T180139Z
UID:10638-1678204800-1678215600@innercircle.biz
SUMMARY:L.A. Taco Tuesday
DESCRIPTION:Join Ian Rassman- L.A. NORML Exec Director & Chosen Payments expert\, for a plant medicine industry leadership-focused networking and casual mastermind session. If you’re in the L.A. area this is a can’t miss event!
URL:https://innercircle.biz/event/l-a-taco-tuesday-37/
LOCATION:Baja Cantina\, 311 Washington Blvd.\, Marina Del Ray\, CA\, 90292\, United States
ATTACH;FMTTYPE=image/jpeg:https://innercircle.biz/wp-content/uploads/2022/05/IMG_6813.jpg
END:VEVENT
BEGIN:VEVENT
DTSTART;TZID=America/Los_Angeles:20230310T080000
DTEND;TZID=America/Los_Angeles:20230312T170000
DTSTAMP:20260420T142649
CREATED:20230227T154941Z
LAST-MODIFIED:20230227T154941Z
UID:10649-1678435200-1678640400@innercircle.biz
SUMMARY:SXSW Cannabis Track 2023
DESCRIPTION:The SXSW Conference provides an opportunity for global professionals at every level to participate\, network\, and advance their careers. Explore 25 Tracks of programming across a variety of formats including Keynotes\, Featured Speakers\, panels\, workshops\, podcasts\, and more.
URL:https://innercircle.biz/event/sxsw-cannabis-track-2023/
LOCATION:Austin Convention Center\, 500 E Cesar Chavez St\, Austin\, TX\, 78701\, United States
ATTACH;FMTTYPE=image/png:https://innercircle.biz/wp-content/uploads/2023/02/SXSW2023.png
END:VEVENT
END:VCALENDAR